BEGIN:VCALENDAR
VERSION:2.0
PRODID:-//https://www.lafayettelodge47.com///NONSGML kigkonsult.se iCalcreator 2.10.15//
METHOD:PUBLISH
BEGIN:VEVENT
UID:20260425T201745UTC-4042xFvMWm@https://www.lafayettelodge47.com/
DTSTAMP:20260425T201745Z
DESCRIPTION:5:30: Social Hour6:30: Program7:00: Dinner https://www.lafayett
 elodge47.com/calendar/event/12-grand-lodge-annual-banquet
DTSTART:20230522T213000Z
DTEND:20230523T010000Z
LOCATION:Rhodes on the Pawtuxet (60 Rhodes Pl\, Cranston\, RI 02905\, USA)
SUMMARY:Grand Lodge Annual Banquet 
URL:https://www.lafayettelodge47.com/calendar/event/12-grand-lodge-annual-b
 anquet
END:VEVENT
BEGIN:VEVENT
UID:20260425T201745UTC-40455nS4Dm@https://www.lafayettelodge47.com/
DTSTAMP:20260425T201745Z
DESCRIPTION: https://www.lafayettelodge47.com/calendar/event/13-grand-lodge
 -annual
DTSTART:20230522T130000Z
DTEND:20230522T170000Z
LOCATION:Grand Lodge (222 Taunton Avenue\, East Providence\, RI 02914\, USA
 )
SUMMARY:Grand Lodge Annual
URL:https://www.lafayettelodge47.com/calendar/event/13-grand-lodge-annual
END:VEVENT
END:VCALENDAR
