BEGIN:VCALENDAR
VERSION:2.0
PRODID:-//https://www.lafayettelodge47.com///NONSGML kigkonsult.se iCalcreator 2.10.15//
METHOD:PUBLISH
BEGIN:VEVENT
UID:20260423T224443UTC-5095SfGgv1@https://www.lafayettelodge47.com/
DTSTAMP:20260423T224443Z
DESCRIPTION: https://www.lafayettelodge47.com/calendar/event/10-regular-com
 munication
DTSTART:20250210T230000Z
DTEND:20250211T020000Z
LOCATION:Redwood Lodge (222 Taunton Avenue\, East Providence\, RI 02914\, U
 SA)
SUMMARY:Regular Communication
URL:https://www.lafayettelodge47.com/calendar/event/10-regular-communicatio
 n
END:VEVENT
END:VCALENDAR
