BEGIN:VCALENDAR
VERSION:2.0
PRODID:-//https://www.lafayettelodge47.com///NONSGML kigkonsult.se iCalcreator 2.10.15//
METHOD:PUBLISH
BEGIN:VEVENT
UID:20260423T213043UTC-5693ipS82M@https://www.lafayettelodge47.com/
DTSTAMP:20260423T213043Z
DESCRIPTION: https://www.lafayettelodge47.com/calendar/event/16-grand-maste
 rs-testimonial-dinner
DTSTART:20240405T210000Z
DTEND:20240406T010000Z
LOCATION:Grand Lodge (222 Taunton Avenue\, East Providence\, RI 02914\, USA
 )
SUMMARY:Grand Masters Testimonial Dinner
URL:https://www.lafayettelodge47.com/calendar/event/16-grand-masters-testim
 onial-dinner
END:VEVENT
END:VCALENDAR
