BEGIN:VCALENDAR
VERSION:2.0
PRODID:-//https://www.lafayettelodge47.com///NONSGML kigkonsult.se iCalcreator 2.10.15//
METHOD:PUBLISH
BEGIN:VEVENT
UID:20260423T230543UTC-9396AZLj6e@https://www.lafayettelodge47.com/
DTSTAMP:20260423T230543Z
DESCRIPTION: https://www.lafayettelodge47.com/calendar/event/21-dd-visitati
 on-to-jenks-lodge-24
DTSTART:20250324T231500Z
DTEND:20250325T010000Z
LOCATION:Jenks Lodge #24 (50 Pleasant St\, Pawtucket\, RI 02860\, USA)
SUMMARY:DD Visitation To Jenks Lodge #24
URL:https://www.lafayettelodge47.com/calendar/event/21-dd-visitation-to-jen
 ks-lodge-24
END:VEVENT
END:VCALENDAR
