BEGIN:VCALENDAR
VERSION:2.0
PRODID:-//https://www.lafayettelodge47.com///NONSGML kigkonsult.se iCalcreator 2.10.15//
METHOD:PUBLISH
BEGIN:VEVENT
UID:20260423T230543UTC-3278X0uvZa@https://www.lafayettelodge47.com/
DTSTAMP:20260423T230543Z
DESCRIPTION: https://www.lafayettelodge47.com/calendar/event/26-regular-com
 munication-dd-visitation-to-redwood-lodge-35
DTSTART:20250113T230000Z
DTEND:20250114T020000Z
LOCATION:Redwood Lodge (222 Taunton Avenue\, East Providence\, RI 02914\, U
 SA)
SUMMARY:Regular Communication | DD Visitation To Redwood Lodge #35
URL:https://www.lafayettelodge47.com/calendar/event/26-regular-communicatio
 n-dd-visitation-to-redwood-lodge-35
END:VEVENT
END:VCALENDAR
