BEGIN:VCALENDAR
VERSION:2.0
PRODID:-//https://www.lafayettelodge47.com///NONSGML kigkonsult.se iCalcreator 2.10.15//
METHOD:PUBLISH
BEGIN:VEVENT
UID:20260423T213550UTC-99516t0vwO@https://www.lafayettelodge47.com/
DTSTAMP:20260423T213550Z
DESCRIPTION: https://www.lafayettelodge47.com/calendar/event/38-special-com
 munication-ea-degree
DTSTART:20211117T190000Z
DTEND:20211117T210000Z
LOCATION:Redwood Lodge (222 Taunton Avenue\, East Providence\, RI 02914\, U
 SA)
SUMMARY:Special Communication EA Degree
URL:https://www.lafayettelodge47.com/calendar/event/38-special-communicatio
 n-ea-degree
END:VEVENT
END:VCALENDAR
