BEGIN:VCALENDAR
VERSION:2.0
PRODID:-//https://www.lafayettelodge47.com///NONSGML kigkonsult.se iCalcreator 2.10.15//
METHOD:PUBLISH
BEGIN:VEVENT
UID:20260425T040209UTC-5462kaO7kj@https://www.lafayettelodge47.com/
DTSTAMP:20260425T040209Z
DESCRIPTION:  https://www.lafayettelodge47.com/calendar/event/39-officers-r
 ehearsal-mm-degree-2nd-and-3rdsections
DTSTART:20200311T190000Z
DTEND:20200311T210000Z
LOCATION:St. John's Lodge #1P (2115 Broad Street\, Cranston\, RI 02905\, US
 A)
SUMMARY:Officers Rehearsal - MM Degree - 2nd and 3rdsections
URL:https://www.lafayettelodge47.com/calendar/event/39-officers-rehearsal-m
 m-degree-2nd-and-3rdsections
END:VEVENT
END:VCALENDAR
