BEGIN:VCALENDAR
VERSION:2.0
PRODID:-//https://www.lafayettelodge47.com///NONSGML kigkonsult.se iCalcreator 2.10.15//
METHOD:PUBLISH
BEGIN:VEVENT
UID:20260423T230605UTC-8722PCP8NG@https://www.lafayettelodge47.com/
DTSTAMP:20260423T230605Z
DESCRIPTION: https://www.lafayettelodge47.com/calendar/event/4-dd-visitatio
 n-to-rising-sun-30
DTSTART:20241021T231500Z
DTEND:20241022T010000Z
LOCATION:Rising Sun Lodge (222 Taunton Avenue\, East Providence\, RI 02914\
 , USA)
SUMMARY:DD Visitation To Rising Sun #30
URL:https://www.lafayettelodge47.com/calendar/event/4-dd-visitation-to-risi
 ng-sun-30
END:VEVENT
END:VCALENDAR
