BEGIN:VCALENDAR
VERSION:2.0
PRODID:-//https://www.lafayettelodge47.com///NONSGML kigkonsult.se iCalcreator 2.10.15//
METHOD:PUBLISH
BEGIN:VEVENT
UID:20260423T230605UTC-9704XXiaS1@https://www.lafayettelodge47.com/
DTSTAMP:20260423T230605Z
DESCRIPTION: https://www.lafayettelodge47.com/calendar/event/48-overseas-lo
 dge-40-annual-communication
DTSTART:20241111T180000Z
DTEND:20241111T210000Z
LOCATION:Veterans' Memorial Cemetery (301 S County Trail\, Exeter\, RI 0282
 2\, USA)
SUMMARY:Overseas Lodge #40 Annual Communication
URL:https://www.lafayettelodge47.com/calendar/event/48-overseas-lodge-40-an
 nual-communication
END:VEVENT
END:VCALENDAR
