BEGIN:VCALENDAR
VERSION:2.0
PRODID:-//https://www.lafayettelodge47.com///NONSGML kigkonsult.se iCalcreator 2.10.15//
METHOD:PUBLISH
BEGIN:VEVENT
UID:20260423T225049UTC-6141GsV0tZ@https://www.lafayettelodge47.com/
DTSTAMP:20260423T225049Z
DESCRIPTION: https://www.lafayettelodge47.com/calendar/event/67-regular-com
 munication-table-lodge
DTSTART:20231113T190000Z
DTEND:20231113T210000Z
LOCATION:Redwood Lodge (222 Taunton Avenue\, East Providence\, RI 02914\, U
 SA)
SUMMARY:Regular Communication/ Table Lodge
URL:https://www.lafayettelodge47.com/calendar/event/67-regular-communicatio
 n-table-lodge
END:VEVENT
END:VCALENDAR
