BEGIN:VCALENDAR
VERSION:2.0
PRODID:-//https://www.lafayettelodge47.com///NONSGML kigkonsult.se iCalcreator 2.10.15//
METHOD:PUBLISH
BEGIN:VEVENT
UID:20260425T040044UTC-2348ZV4T6w@https://www.lafayettelodge47.com/
DTSTAMP:20260425T040044Z
DESCRIPTION: https://www.lafayettelodge47.com/calendar/event/70-redwood-sch
 olarship-application-deadline
DTSTART;VALUE=DATE:20230601
LOCATION:Redwood Lodge (222 Taunton Avenue\, East Providence\, RI 02914\, U
 SA)
SUMMARY:Redwood Scholarship Application Deadline
URL:https://www.lafayettelodge47.com/calendar/event/70-redwood-scholarship-
 application-deadline
END:VEVENT
END:VCALENDAR
