BEGIN:VCALENDAR
VERSION:2.0
PRODID:-//https://www.lafayettelodge47.com///NONSGML kigkonsult.se iCalcreator 2.10.15//
METHOD:PUBLISH
BEGIN:VEVENT
UID:20260423T224444UTC-5114a0LMmL@https://www.lafayettelodge47.com/
DTSTAMP:20260423T224444Z
DESCRIPTION: https://www.lafayettelodge47.com/calendar/event/71-regular-com
 munication
DTSTART:20241209T230000Z
DTEND:20241210T020000Z
LOCATION:Redwood Lodge (222 Taunton Avenue\, East Providence\, RI 02914\, U
 SA)
SUMMARY:Regular Communication
URL:https://www.lafayettelodge47.com/calendar/event/71-regular-communicatio
 n
END:VEVENT
END:VCALENDAR
