BEGIN:VCALENDAR
VERSION:2.0
PRODID:-//https://www.lafayettelodge47.com///NONSGML kigkonsult.se iCalcreator 2.10.15//
METHOD:PUBLISH
BEGIN:VEVENT
UID:20260423T224445UTC-5144btcBHV@https://www.lafayettelodge47.com/
DTSTAMP:20260423T224445Z
DESCRIPTION:Holiday Get TogetherCards and Cigars\nAle House Cigar Bar52 Pin
 e StProvidence\, RI 02803 https://www.lafayettelodge47.com/calendar/event/
 77-regular-communication
DTSTART:20250310T220000Z
DTEND:20250311T010000Z
LOCATION:Redwood Lodge (222 Taunton Avenue\, East Providence\, RI 02914\, U
 SA)
SUMMARY:Regular Communication
URL:https://www.lafayettelodge47.com/calendar/event/77-regular-communicatio
 n
END:VEVENT
END:VCALENDAR
