BEGIN:VCALENDAR
VERSION:2.0
PRODID:-//https://www.lafayettelodge47.com///NONSGML kigkonsult.se iCalcreator 2.10.15//
METHOD:PUBLISH
BEGIN:VEVENT
UID:20260423T200346UTC-5986GPCEbV@https://www.lafayettelodge47.com/
DTSTAMP:20260423T200346Z
DESCRIPTION: https://www.lafayettelodge47.com/calendar/event/78-regular-com
 munication
DTSTART:20260305T000000Z
DTEND:20260305T020000Z
LOCATION:Lafayette Lodge (680 Nate Whipple Hwy\, Cumberland\, RI 02864\, US
 A)
SUMMARY:Regular Communication
URL:https://www.lafayettelodge47.com/calendar/event/78-regular-communicatio
 n
END:VEVENT
END:VCALENDAR
