BEGIN:VCALENDAR
VERSION:2.0
PRODID:-//https://www.lafayettelodge47.com///NONSGML kigkonsult.se iCalcreator 2.10.15//
METHOD:PUBLISH
BEGIN:VEVENT
UID:20260423T230543UTC-5809bIKS5T@https://www.lafayettelodge47.com/
DTSTAMP:20260423T230543Z
DESCRIPTION: https://www.lafayettelodge47.com/calendar/event/79-grand-maste
 r-fraternal-visitation-to-rising-sun-30
DTSTART:20220919T231500Z
DTEND:20220920T010000Z
LOCATION:Rising Sun Lodge (222 Taunton Avenue\, East Providence\, RI 02914\
 , USA)
SUMMARY:Grand Master Fraternal Visitation To Rising Sun #30
URL:https://www.lafayettelodge47.com/calendar/event/79-grand-master-fratern
 al-visitation-to-rising-sun-30
END:VEVENT
END:VCALENDAR
