BEGIN:VCALENDAR
VERSION:2.0
PRODID:-//https://www.lafayettelodge47.com///NONSGML kigkonsult.se iCalcreator 2.10.15//
METHOD:PUBLISH
BEGIN:VEVENT
UID:20260423T230616UTC-8419spMIgd@https://www.lafayettelodge47.com/
DTSTAMP:20260423T230616Z
DESCRIPTION: https://www.lafayettelodge47.com/calendar/event/8-gm-visitatio
 n-southern-district-mt-vernon-lodge-4
DTSTART:20240308T001500Z
DTEND:20240308T020000Z
LOCATION:Hope Lodge #25 (64 Columbia St\, Wakefield\, RI 02879\, USA)
SUMMARY:GM Visitation: Southern District: Mt. Vernon Lodge #4
URL:https://www.lafayettelodge47.com/calendar/event/8-gm-visitation-souther
 n-district-mt-vernon-lodge-4
END:VEVENT
END:VCALENDAR
