BEGIN:VCALENDAR
VERSION:2.0
PRODID:-//https://www.lafayettelodge47.com///NONSGML kigkonsult.se iCalcreator 2.10.15//
METHOD:PUBLISH
BEGIN:VEVENT
UID:20260423T230543UTC-8561sivMXb@https://www.lafayettelodge47.com/
DTSTAMP:20260423T230543Z
DESCRIPTION: https://www.lafayettelodge47.com/calendar/event/82-dd-visitati
 on-to-logia-libertad-ud
DTSTART:20250302T001500Z
DTEND:20250302T020000Z
LOCATION:Grand Lodge (222 Taunton Avenue\, East Providence\, RI 02914\, USA
 )
SUMMARY:DD Visitation To Logia Libertad\, UD
URL:https://www.lafayettelodge47.com/calendar/event/82-dd-visitation-to-log
 ia-libertad-ud
END:VEVENT
END:VCALENDAR
