BEGIN:VCALENDAR
VERSION:2.0
PRODID:-//https://www.lafayettelodge47.com///NONSGML kigkonsult.se iCalcreator 2.10.15//
METHOD:PUBLISH
BEGIN:VEVENT
UID:20260424T113032UTC-8459n5dIca@https://www.lafayettelodge47.com/
DTSTAMP:20260424T113032Z
DESCRIPTION: https://www.lafayettelodge47.com/calendar/event/15-dd-visitati
 on-to-st-john-1-providence
DTSTART:20250416T231500Z
DTEND:20250417T010000Z
LOCATION:St. John's Lodge #1P (2115 Broad Street\, Cranston\, RI 02905\, US
 A)
SUMMARY:DD Visitation To St. John #1 Providence
URL:https://www.lafayettelodge47.com/calendar/event/15-dd-visitation-to-st-
 john-1-providence
END:VEVENT
BEGIN:VEVENT
UID:20260424T113032UTC-8461wIxGns@https://www.lafayettelodge47.com/
DTSTAMP:20260424T113032Z
DESCRIPTION: https://www.lafayettelodge47.com/calendar/event/22-gm-visitati
 on-to-his-mother-lodge-st-johns-lodge-1p
DTSTART:20250417T231500Z
DTEND:20250418T010000Z
LOCATION:Jenks Lodge #24 (50 Pleasant St\, Pawtucket\, RI 02860\, USA)
SUMMARY:GM Visitation To His Mother Lodge: St Johns Lodge #1P
URL:https://www.lafayettelodge47.com/calendar/event/22-gm-visitation-to-his
 -mother-lodge-st-johns-lodge-1p
END:VEVENT
BEGIN:VEVENT
UID:20260424T113032UTC-84618UbbLC@https://www.lafayettelodge47.com/
DTSTAMP:20260424T113032Z
DESCRIPTION: https://www.lafayettelodge47.com/calendar/event/74-regular-com
 munication
DTSTART:20250414T220000Z
DTEND:20250415T010000Z
LOCATION:Redwood Lodge (222 Taunton Avenue\, East Providence\, RI 02914\, U
 SA)
SUMMARY:Regular Communication
URL:https://www.lafayettelodge47.com/calendar/event/74-regular-communicatio
 n
END:VEVENT
END:VCALENDAR
