BEGIN:VCALENDAR
VERSION:2.0
PRODID:-//https://www.lafayettelodge47.com///NONSGML kigkonsult.se iCalcreator 2.10.15//
METHOD:PUBLISH
BEGIN:VEVENT
UID:20260424T053759UTC-9629vVxo0e@https://www.lafayettelodge47.com/
DTSTAMP:20260424T053759Z
DESCRIPTION: https://www.lafayettelodge47.com/calendar/event/5-specials-com
 munication-mm-degree
DTSTART:20250818T223000Z
DTEND:20250819T010000Z
LOCATION:Lafayette Lodge (680 Nate Whipple Hwy\, Cumberland\, RI 02864\, US
 A)
SUMMARY:Specials Communication MM Degree
URL:https://www.lafayettelodge47.com/calendar/event/5-specials-communicatio
 n-mm-degree
END:VEVENT
END:VCALENDAR
