BEGIN:VCALENDAR
VERSION:2.0
PRODID:-//https://www.lafayettelodge47.com///NONSGML kigkonsult.se iCalcreator 2.10.15//
METHOD:PUBLISH
BEGIN:VEVENT
UID:20260424T185352UTC-0851cPJ1Nb@https://www.lafayettelodge47.com/
DTSTAMP:20260424T185352Z
DESCRIPTION: https://www.lafayettelodge47.com/calendar/event/76-regular-com
 munication
DTSTART:20241106T230000Z
DTEND:20241107T020000Z
LOCATION:Redwood Lodge (222 Taunton Avenue\, East Providence\, RI 02914\, U
 SA)
SUMMARY:Regular Communication
URL:https://www.lafayettelodge47.com/calendar/event/76-regular-communicatio
 n
END:VEVENT
END:VCALENDAR
